BEGIN:VCALENDAR
VERSION:2.0
PRODID:-//BLACKSMITH LOUNGE - ECPv6.15.20//NONSGML v1.0//EN
CALSCALE:GREGORIAN
METHOD:PUBLISH
X-ORIGINAL-URL:https://blacksmithlounge.com
X-WR-CALDESC:Events for BLACKSMITH LOUNGE
REFRESH-INTERVAL;VALUE=DURATION:PT1H
X-Robots-Tag:noindex
X-PUBLISHED-TTL:PT1H
BEGIN:VTIMEZONE
TZID:America/Chicago
BEGIN:DAYLIGHT
TZOFFSETFROM:-0600
TZOFFSETTO:-0500
TZNAME:CDT
DTSTART:20230312T080000
END:DAYLIGHT
BEGIN:STANDARD
TZOFFSETFROM:-0500
TZOFFSETTO:-0600
TZNAME:CST
DTSTART:20231105T070000
END:STANDARD
BEGIN:DAYLIGHT
TZOFFSETFROM:-0600
TZOFFSETTO:-0500
TZNAME:CDT
DTSTART:20240310T080000
END:DAYLIGHT
BEGIN:STANDARD
TZOFFSETFROM:-0500
TZOFFSETTO:-0600
TZNAME:CST
DTSTART:20241103T070000
END:STANDARD
BEGIN:DAYLIGHT
TZOFFSETFROM:-0600
TZOFFSETTO:-0500
TZNAME:CDT
DTSTART:20250309T080000
END:DAYLIGHT
BEGIN:STANDARD
TZOFFSETFROM:-0500
TZOFFSETTO:-0600
TZNAME:CST
DTSTART:20251102T070000
END:STANDARD
BEGIN:DAYLIGHT
TZOFFSETFROM:-0600
TZOFFSETTO:-0500
TZNAME:CDT
DTSTART:20260308T080000
END:DAYLIGHT
BEGIN:STANDARD
TZOFFSETFROM:-0500
TZOFFSETTO:-0600
TZNAME:CST
DTSTART:20261101T070000
END:STANDARD
END:VTIMEZONE
BEGIN:VEVENT
DTSTART;TZID=America/Chicago:20250201T000000
DTEND;TZID=America/Chicago:20250201T140000
DTSTAMP:20260424T135628
CREATED:20250418T214625Z
LAST-MODIFIED:20250418T222720Z
UID:1683-1738368000-1738418400@blacksmithlounge.com
SUMMARY:"The Older the Better" Vintage Sled Event (11th Annual)
DESCRIPTION:“The Older the Better” Vintage Sled Event\nFood\, Raffle\, Prizes and Fun!\nTrophies awarded for 9 different categories\nFor more information visit our Facebook page: Stillwater Snowmobile Club
URL:https://blacksmithlounge.com/event/the-older-the-better-vintage-sled-event-11th-annual/
LOCATION:Blacksmith Lounge & Broaster\, 17205 FOREST BLVD. N.\, HUGO\, MN\, 55038\, United States
CATEGORIES:Vintage Sled
ATTACH;FMTTYPE=image/png:https://blacksmithlounge.com/wp-content/uploads/2025/04/stillwater-sc-the-older-the-better-vintage-snowmobile-show-blacksmithlounge.png
ORGANIZER;CN="Stillwater Snowmobile Club":MAILTO:stillwatersnowmobile@gmail.com
END:VEVENT
BEGIN:VEVENT
DTSTART;TZID=America/Chicago:20240929T100000
DTEND;TZID=America/Chicago:20240929T140000
DTSTAMP:20260424T135628
CREATED:20250418T214609Z
LAST-MODIFIED:20250418T214609Z
UID:1674-1727604000-1727618400@blacksmithlounge.com
SUMMARY:Consignment Auction
DESCRIPTION:Come have fun outdoors at the Blacksmith Lounge! Auction Time – 10 A.M.\nBring your collectables\, antiques\, lawn & garden and household items (NO APPLIANCES!).\nConsignments taken morning of the auction from 7 A.M. – 9:30 A.M. (No items the night before.)\nManges Auction Service\n(507)256-4459\n23969 785th Ave.\nAlbert Lea\, MN 56007\nmangesauction@yahoo.com
URL:https://blacksmithlounge.com/event/consignment-auction-4/
LOCATION:MN
CATEGORIES:Consignment Auctions
END:VEVENT
BEGIN:VEVENT
DTSTART;TZID=America/Chicago:20240915T000000
DTEND;TZID=America/Chicago:20240915T150000
DTSTAMP:20260424T135628
CREATED:20250418T214553Z
LAST-MODIFIED:20250418T221444Z
UID:1669-1726358400-1726412400@blacksmithlounge.com
SUMMARY:The BIG One
DESCRIPTION:Gate opens at 0830. Show 0900-1500. $10 Entry per vehicle.\nBingo 1000 – 1400\nKids Games 1000-1200\nFace Painting\nKids FREE Raffle Prizes\nDoor Prizes\nParticipant & Club Trophies Awarded at 1400 \nNO BURNOUTS \nMSRA Voting Event\nNSRA Safety Inspections \nFood & Beverages available through Blacksmith Lounge.\nNet proceeds from the Bingo and Raffle benefit the Good Neighbors Hugo Food Shelf. Family Pathways Forest Lake Food Shelf. Helping Paws\, and the MSRA Scholarship Foundation \nRESTRICTIONS: No Pets. No Tents. No Awnings. No Skateboards. No Bicycles. No Trailers. No Rollerblades. No Golf Carts. No Motor Scooters. No 3 Wheelers. No Oversized Vehicle (Unless Pre-Arranged).
URL:https://blacksmithlounge.com/event/the-big-one/
LOCATION:MN
CATEGORIES:Car Shows
ATTACH;FMTTYPE=image/png:https://blacksmithlounge.com/wp-content/uploads/2025/04/Northern-Lights-Car-Club.png
ORGANIZER;CN="Northern Lights Car Club":MAILTO:blacksmithhugo@gmail.com
END:VEVENT
BEGIN:VEVENT
DTSTART;TZID=America/Chicago:20240906T120000
DTEND;TZID=America/Chicago:20240906T160000
DTSTAMP:20260424T135628
CREATED:20250418T214625Z
LAST-MODIFIED:20250707T145141Z
UID:1684-1725624000-1725638400@blacksmithlounge.com
SUMMARY:Outdoor Chicken & Corn Feed
DESCRIPTION:White Bear Lake Boys High School Hockey Outdoor Chicken & Corn Feed. Broasted Chicken & Broasted Corn.\n$12 Tickets can be purchased at the door\nFUN – RAFFLES – PRIZES!!\nThank you for supporting White Bear Lake Boys High School Hockey. Let’s make Hockey Day Minnesota 2024 a great one!
URL:https://blacksmithlounge.com/event/outdoor-chicken-corn-feed/
LOCATION:MN
CATEGORIES:Fundraiser
END:VEVENT
BEGIN:VEVENT
DTSTART;TZID=America/Chicago:20240902T000000
DTEND;TZID=America/Chicago:20240902T150000
DTSTAMP:20260424T135628
CREATED:20250418T214553Z
LAST-MODIFIED:20250418T221701Z
UID:1667-1725235200-1725289200@blacksmithlounge.com
SUMMARY:Labor Day Car Show (23rd Annual)
DESCRIPTION:Gates & Registration opens at 0800. Show Hours 0900 – 1500. Awards at 1400 * Must be present to win. Dash plaques to first 250 cars. 50 Awards Plus Best of Show. Registration day of show ONLY.  $10 per show car. Spectators are always free. NO SWAP MEET. NO VENDORS. For Sale Signs OK. All Parking in BACK. PLEASE\, NO BURNOUTS!
URL:https://blacksmithlounge.com/event/labor-day-car-show-23rd-annual/
LOCATION:MN
CATEGORIES:Car Shows
ATTACH;FMTTYPE=image/jpeg:https://blacksmithlounge.com/wp-content/uploads/2025/04/blacksmithlounge-north-star-studebaker-memorial-day.jpg
ORGANIZER;CN="Northern Lights Car Club":MAILTO:blacksmithhugo@gmail.com
END:VEVENT
BEGIN:VEVENT
DTSTART;TZID=America/Chicago:20240825T100000
DTEND;TZID=America/Chicago:20240825T140000
DTSTAMP:20260424T135628
CREATED:20250418T214609Z
LAST-MODIFIED:20250418T214609Z
UID:1673-1724580000-1724594400@blacksmithlounge.com
SUMMARY:Consignment Auction
DESCRIPTION:Come have fun outdoors at the Blacksmith Lounge! Auction Time – 10 A.M.\nBring your collectables\, antiques\, lawn & garden and household items (NO APPLIANCES!).\nConsignments taken morning of the auction from 7 A.M. – 9:30 A.M. (No items the night before.)\nManges Auction Service\n(507)256-4459\n23969 785th Ave.\nAlbert Lea\, MN 56007\nmangesauction@yahoo.com
URL:https://blacksmithlounge.com/event/consignment-auction-3/
LOCATION:MN
CATEGORIES:Consignment Auctions
END:VEVENT
BEGIN:VEVENT
DTSTART;TZID=America/Chicago:20240811T100000
DTEND;TZID=America/Chicago:20240811T150000
DTSTAMP:20260424T135628
CREATED:20250418T214553Z
LAST-MODIFIED:20260409T003238Z
UID:1665-1723370400-1723388400@blacksmithlounge.com
SUMMARY:Car & Bike Charity Show + Other Contests (9th Annual)
DESCRIPTION:Free Entry! Free will donations to the Fort Snelling Memorial Rifle Squad. Family friendly event that has something for everyone! Car Show\, Silent Auction\, Coach Purse Bingo\, Vendors\, Kid Activities\, Awards and BURN OUT CONTEST!100% of the money raised will be donated! MRS is incredibly special to our community because they are made up completely by Veteran volunteers. They perform funerals for fellow veterans at no cost to their families. They honor the Veteran with a color guard\, rifle volley\, the folding and presentation of our flag and a live bugler playing “taps”.
URL:https://blacksmithlounge.com/event/car-bike-charity-show-burnout-contest-9th-annual/
LOCATION:MN
CATEGORIES:Car Shows
END:VEVENT
BEGIN:VEVENT
DTSTART;TZID=America/Chicago:20240804T000000
DTEND;TZID=America/Chicago:20240804T140000
DTSTAMP:20260424T135628
CREATED:20250418T214538Z
LAST-MODIFIED:20250418T221811Z
UID:1657-1722729600-1722780000@blacksmithlounge.com
SUMMARY:Oldsmobile Swap - Minnesota Old's Club (48th Annual)
DESCRIPTION:Sunday\, August 4th\, 2024 (9 A.M. – 2 P.M.)Pre-registration Deadline: July 28\, 2024\nAll Makes & Models\nTop 20 Oldsmobile’s\nTop 10 Non-Old’s\n50/50 Raffle \nFor more information contact Kevin Rooney (651)315-1530
URL:https://blacksmithlounge.com/event/oldsmobile-swap-minnesota-olds-club-48th-annual/
LOCATION:MN
CATEGORIES:Swap Meets
ATTACH;FMTTYPE=image/png:https://blacksmithlounge.com/wp-content/uploads/2025/04/oldsmobile-club-of-America-minnesota-chapter-blacksmithlounge.png
ORGANIZER;CN="Oldsmobile Club of America - Minnesota Chapter":MAILTO:kr6t7442@comcast.net
END:VEVENT
BEGIN:VEVENT
DTSTART;TZID=America/Chicago:20240804T000000
DTEND;TZID=America/Chicago:20240804T140000
DTSTAMP:20260424T135628
CREATED:20250418T214538Z
LAST-MODIFIED:20250418T221739Z
UID:1656-1722729600-1722780000@blacksmithlounge.com
SUMMARY:Oldsmobile Show - Minnesota Old's Club (48th Annual)
DESCRIPTION:Sunday\, August 4th\, 2024 (9 A.M. – 2 P.M.)Pre-registration Deadline: July 28\, 2024\nAll Makes & Models\nTop 20 Oldsmobile’s\nTop 10 Non-Old’s\n50/50 Raffle \nFor more information contact Kevin Rooney (651)315-1530
URL:https://blacksmithlounge.com/event/oldsmobile-show-minnesota-olds-club-48th-annual/
LOCATION:MN
CATEGORIES:Car Shows
ATTACH;FMTTYPE=image/png:https://blacksmithlounge.com/wp-content/uploads/2025/04/oldsmobile-club-of-America-minnesota-chapter-blacksmithlounge.png
ORGANIZER;CN="Oldsmobile Club of America - Minnesota Chapter":MAILTO:kr6t7442@comcast.net
END:VEVENT
BEGIN:VEVENT
DTSTART;TZID=America/Chicago:20240728T100000
DTEND;TZID=America/Chicago:20240728T140000
DTSTAMP:20260424T135628
CREATED:20250418T214609Z
LAST-MODIFIED:20250418T214609Z
UID:1672-1722160800-1722175200@blacksmithlounge.com
SUMMARY:Consignment Auction
DESCRIPTION:Come have fun outdoors at the Blacksmith Lounge! Auction Time – 10 A.M.\nBring your collectables\, antiques\, lawn & garden and household items (NO APPLIANCES!).\nConsignments taken morning of the auction from 7 A.M. – 9:30 A.M. (No items the night before.)\nManges Auction Service\n(507)256-4459\n23969 785th Ave.\nAlbert Lea\, MN 56007\nmangesauction@yahoo.com
URL:https://blacksmithlounge.com/event/consignment-auction-2/
LOCATION:MN
CATEGORIES:Consignment Auctions
END:VEVENT
BEGIN:VEVENT
DTSTART;TZID=America/Chicago:20240727T000000
DTEND;TZID=America/Chicago:20240727T150000
DTSTAMP:20260424T135628
CREATED:20250418T214536Z
LAST-MODIFIED:20250418T221854Z
UID:1654-1722038400-1722092400@blacksmithlounge.com
SUMMARY:Lincoln & American Collector Car Show (3rd Annual)
DESCRIPTION:Welcome to our annual “American Collector Car” event that is focused on ALL American automobiles of any model\, year\, stock or modified. Come and share the passion with other owners of these distinctive survivors at the unique and friendly location at the Blacksmith Lounge and Broaster in Hugo\, Minnesota. This property features a grassy area of many acres with two large shelters & excellent food and refreshments are available.
URL:https://blacksmithlounge.com/event/lincoln-american-collector-car-show-3rd-annual/
LOCATION:MN
CATEGORIES:Car Shows
ATTACH;FMTTYPE=image/jpeg:https://blacksmithlounge.com/wp-content/uploads/2025/04/LINCOLN-CONTINENTAL.jpg
ORGANIZER;CN="North Star Region of the Lincoln and Continental Owners Club":MAILTO:arborbob41@aol.com
END:VEVENT
BEGIN:VEVENT
DTSTART;TZID=America/Chicago:20240707T000000
DTEND;TZID=America/Chicago:20240707T150000
DTSTAMP:20260424T135628
CREATED:20250418T214614Z
LAST-MODIFIED:20250418T221930Z
UID:1679-1720310400-1720364400@blacksmithlounge.com
SUMMARY:Motorcycle Swap Meet
DESCRIPTION:9 A.M. – 3 P.M. RAIN OR SHINEFREE ADMISSION & VENDING\nVendors Wanted\nFood and Drink Available\nMotorcycles * Parts * Leather * Tools * Apparel\nFor Questions Call 612-240-6571
URL:https://blacksmithlounge.com/event/motorcycle-swap-meet/
LOCATION:MN
CATEGORIES:Swap Meets
ATTACH;FMTTYPE=image/jpeg:https://blacksmithlounge.com/wp-content/uploads/2025/04/motorcycle-swap-meet_blacksmithlounge.com_.jpeg
ORGANIZER;CN="Motorcycle Swap Meet":MAILTO:blacksmithhugo@gmail.com
END:VEVENT
BEGIN:VEVENT
DTSTART;TZID=America/Chicago:20240630T100000
DTEND;TZID=America/Chicago:20240630T140000
DTSTAMP:20260424T135628
CREATED:20250418T214609Z
LAST-MODIFIED:20250418T214609Z
UID:1671-1719741600-1719756000@blacksmithlounge.com
SUMMARY:Consignment Auction
DESCRIPTION:Come have fun outdoors at the Blacksmith Lounge! Auction Time – 10 A.M.\nBring your collectables\, antiques\, lawn & garden and household items (NO APPLIANCES!).\nConsignments taken morning of the auction from 7 A.M. – 9:30 A.M. (No items the night before.)\nManges Auction Service\n(507)256-4459\n23969 785th Ave.\nAlbert Lea\, MN 56007\nmangesauction@yahoo.com
URL:https://blacksmithlounge.com/event/consignment-auction/
LOCATION:MN
CATEGORIES:Consignment Auctions
END:VEVENT
BEGIN:VEVENT
DTSTART;TZID=America/Chicago:20240608T100000
DTEND;TZID=America/Chicago:20240608T150000
DTSTAMP:20260424T135628
CREATED:20250418T214536Z
LAST-MODIFIED:20250418T214536Z
UID:1652-1717840800-1717858800@blacksmithlounge.com
SUMMARY:Back to the 80's
DESCRIPTION:Back To The 80’s is an All-Inclusive auto event. Whether domestic or imported\, showroom stock or modified to the point of being unrecognizable – bring it out and show it off! Motorcycles too! If it’s 80’s\, it’s in.
URL:https://blacksmithlounge.com/event/back-to-the-80s/
LOCATION:MN
CATEGORIES:Car Shows
END:VEVENT
BEGIN:VEVENT
DTSTART;TZID=America/Chicago:20240527T000000
DTEND;TZID=America/Chicago:20240527T150000
DTSTAMP:20260424T135628
CREATED:20250418T214536Z
LAST-MODIFIED:20250418T222004Z
UID:1650-1716768000-1716822000@blacksmithlounge.com
SUMMARY:Memorial Day - North Star Studebaker Car Show (49th Annual)
DESCRIPTION:The North Star Chapter of the Studebakers Drivers Club Invites You to the 49th Annual Memorial Day Car Show.
URL:https://blacksmithlounge.com/event/memorial-day-north-star-studebaker-car-show-49th-annual/
LOCATION:MN
CATEGORIES:Car Shows
ATTACH;FMTTYPE=image/jpeg:https://blacksmithlounge.com/wp-content/uploads/2025/04/blacksmithlounge-north-star-studebaker-memorial-day.jpg
ORGANIZER;CN="The North Star Chapter of the Studebaker Drivers Club":MAILTO:bob@stude-becker.com
END:VEVENT
BEGIN:VEVENT
DTSTART;TZID=America/Chicago:20240203T000000
DTEND;TZID=America/Chicago:20240203T140000
DTSTAMP:20260424T135628
CREATED:20250418T214625Z
LAST-MODIFIED:20250418T222033Z
UID:1682-1706918400-1706968800@blacksmithlounge.com
SUMMARY:"The Older the Better" Vintage Sled Event (10th Annual)
DESCRIPTION:“The Older the Better” Vintage Sled Event\nFood\, Raffle\, Prizes and Fun!\nTrophies awarded for 9 different categories\nFor more information visit our Facebook page: Stillwater Snowmobile Club
URL:https://blacksmithlounge.com/event/the-older-the-better-vintage-sled-event-10th-annual/
LOCATION:MN
CATEGORIES:Vintage Sled
ATTACH;FMTTYPE=image/png:https://blacksmithlounge.com/wp-content/uploads/2025/04/stillwater-sc-the-older-the-better-vintage-snowmobile-show-blacksmithlounge.png
ORGANIZER;CN="Stillwater Snowmobile Club":MAILTO:stillwatersnowmobile@gmail.com
END:VEVENT
END:VCALENDAR