BEGIN:VCALENDAR
VERSION:2.0
PRODID:-//BLACKSMITH LOUNGE - ECPv6.15.20//NONSGML v1.0//EN
CALSCALE:GREGORIAN
METHOD:PUBLISH
X-WR-CALNAME:BLACKSMITH LOUNGE
X-ORIGINAL-URL:https://blacksmithlounge.com
X-WR-CALDESC:Events for BLACKSMITH LOUNGE
REFRESH-INTERVAL;VALUE=DURATION:PT1H
X-Robots-Tag:noindex
X-PUBLISHED-TTL:PT1H
BEGIN:VTIMEZONE
TZID:America/Chicago
BEGIN:DAYLIGHT
TZOFFSETFROM:-0600
TZOFFSETTO:-0500
TZNAME:CDT
DTSTART:20250309T080000
END:DAYLIGHT
BEGIN:STANDARD
TZOFFSETFROM:-0500
TZOFFSETTO:-0600
TZNAME:CST
DTSTART:20251102T070000
END:STANDARD
BEGIN:DAYLIGHT
TZOFFSETFROM:-0600
TZOFFSETTO:-0500
TZNAME:CDT
DTSTART:20260308T080000
END:DAYLIGHT
BEGIN:STANDARD
TZOFFSETFROM:-0500
TZOFFSETTO:-0600
TZNAME:CST
DTSTART:20261101T070000
END:STANDARD
BEGIN:DAYLIGHT
TZOFFSETFROM:-0600
TZOFFSETTO:-0500
TZNAME:CDT
DTSTART:20270314T080000
END:DAYLIGHT
BEGIN:STANDARD
TZOFFSETFROM:-0500
TZOFFSETTO:-0600
TZNAME:CST
DTSTART:20271107T070000
END:STANDARD
END:VTIMEZONE
BEGIN:VEVENT
DTSTART;TZID=America/Chicago:20260912T120000
DTEND;TZID=America/Chicago:20260912T160000
DTSTAMP:20260424T100240
CREATED:20260407T140359Z
LAST-MODIFIED:20260408T133820Z
UID:1919-1789214400-1789228800@blacksmithlounge.com
SUMMARY:Outdoor Chicken & Corn Feed
DESCRIPTION:White Bear Lake Boys High School Hockey Outdoor Chicken & Corn Feed. Broasted Chicken & Broasted Corn.\n$12 Tickets can be purchased at the door\nFUN – RAFFLES – PRIZES!!\nThank you for supporting White Bear Lake Boys High School Hockey. Let’s make Hockey Day Minnesota 2024 a great one!
URL:https://blacksmithlounge.com/event/outdoor-chicken-corn-feed-2/
LOCATION:Blacksmith Lounge & Broaster\, 17205 FOREST BLVD. N.\, HUGO\, MN\, 55038\, United States
CATEGORIES:Fundraiser
ATTACH;FMTTYPE=image/png:https://blacksmithlounge.com/wp-content/uploads/2025/04/blacksmiths-white-bear-lake-boys-high-school-hockey.png
END:VEVENT
END:VCALENDAR