BEGIN:VCALENDAR
VERSION:2.0
PRODID:-//BLACKSMITH LOUNGE - ECPv6.15.20//NONSGML v1.0//EN
CALSCALE:GREGORIAN
METHOD:PUBLISH
X-WR-CALNAME:BLACKSMITH LOUNGE
X-ORIGINAL-URL:https://blacksmithlounge.com
X-WR-CALDESC:Events for BLACKSMITH LOUNGE
REFRESH-INTERVAL;VALUE=DURATION:PT1H
X-Robots-Tag:noindex
X-PUBLISHED-TTL:PT1H
BEGIN:VTIMEZONE
TZID:America/Chicago
BEGIN:DAYLIGHT
TZOFFSETFROM:-0600
TZOFFSETTO:-0500
TZNAME:CDT
DTSTART:20230312T080000
END:DAYLIGHT
BEGIN:STANDARD
TZOFFSETFROM:-0500
TZOFFSETTO:-0600
TZNAME:CST
DTSTART:20231105T070000
END:STANDARD
BEGIN:DAYLIGHT
TZOFFSETFROM:-0600
TZOFFSETTO:-0500
TZNAME:CDT
DTSTART:20240310T080000
END:DAYLIGHT
BEGIN:STANDARD
TZOFFSETFROM:-0500
TZOFFSETTO:-0600
TZNAME:CST
DTSTART:20241103T070000
END:STANDARD
BEGIN:DAYLIGHT
TZOFFSETFROM:-0600
TZOFFSETTO:-0500
TZNAME:CDT
DTSTART:20250309T080000
END:DAYLIGHT
BEGIN:STANDARD
TZOFFSETFROM:-0500
TZOFFSETTO:-0600
TZNAME:CST
DTSTART:20251102T070000
END:STANDARD
BEGIN:DAYLIGHT
TZOFFSETFROM:-0600
TZOFFSETTO:-0500
TZNAME:CDT
DTSTART:20260308T080000
END:DAYLIGHT
BEGIN:STANDARD
TZOFFSETFROM:-0500
TZOFFSETTO:-0600
TZNAME:CST
DTSTART:20261101T070000
END:STANDARD
END:VTIMEZONE
BEGIN:VEVENT
DTSTART;TZID=America/Chicago:20250928T100000
DTEND;TZID=America/Chicago:20250928T140000
DTSTAMP:20260424T120956
CREATED:20250418T214614Z
LAST-MODIFIED:20250810T000415Z
UID:1678-1759053600-1759068000@blacksmithlounge.com
SUMMARY:Consignment Auction  Note: August auction date is changing to the 24th- not the 31st
DESCRIPTION:Come have fun outdoors at the Blacksmith Lounge! Auction Time – 10 A.M.\nBring your collectables\, antiques\, lawn & garden and household items (NO APPLIANCES!).\nConsignments taken morning of the auction from 7 A.M. – 9:30 A.M. (No items the night before.)\nManges Auction Service\n(507)256-4459\n23969 785th Ave.\nAlbert Lea\, MN 56007\nmangesauction@yahoo.com
URL:https://blacksmithlounge.com/event/consignment-auction-8/
LOCATION:Blacksmith Lounge & Broaster\, 17205 FOREST BLVD. N.\, HUGO\, MN\, 55038\, United States
CATEGORIES:Consignment Auctions
ATTACH;FMTTYPE=image/jpeg:https://blacksmithlounge.com/wp-content/uploads/2025/04/blacksmithlounge-and-broaster.jpg
ORGANIZER;CN="Manges Auction Service":MAILTO:mangesauction@yahoo.com
END:VEVENT
BEGIN:VEVENT
DTSTART;TZID=America/Chicago:20250824T100000
DTEND;TZID=America/Chicago:20250824T140000
DTSTAMP:20260424T120956
CREATED:20250418T214614Z
LAST-MODIFIED:20250823T204800Z
UID:1677-1756029600-1756044000@blacksmithlounge.com
SUMMARY:Consignment Auction
DESCRIPTION:Come have fun outdoors at the Blacksmith Lounge! Auction Time – 10 A.M.\nBring your collectables\, antiques\, lawn & garden and household items (NO APPLIANCES!).\nConsignments taken morning of the auction from 7 A.M. – 9:30 A.M. (No items the night before.)\nManges Auction Service\n(507)256-4459\n23969 785th Ave.\nAlbert Lea\, MN 56007\nmangesauction@yahoo.com
URL:https://blacksmithlounge.com/event/consignment-auction-7/
LOCATION:Blacksmith Lounge & Broaster\, 17205 FOREST BLVD. N.\, HUGO\, MN\, 55038\, United States
CATEGORIES:Consignment Auctions
ATTACH;FMTTYPE=image/jpeg:https://blacksmithlounge.com/wp-content/uploads/2025/04/blacksmithlounge-and-broaster.jpg
ORGANIZER;CN="Manges Auction Service":MAILTO:mangesauction@yahoo.com
END:VEVENT
BEGIN:VEVENT
DTSTART;TZID=America/Chicago:20250727T100000
DTEND;TZID=America/Chicago:20250727T140000
DTSTAMP:20260424T120956
CREATED:20250418T214614Z
LAST-MODIFIED:20250418T225743Z
UID:1676-1753610400-1753624800@blacksmithlounge.com
SUMMARY:Consignment Auction
DESCRIPTION:Come have fun outdoors at the Blacksmith Lounge! Auction Time – 10 A.M.\nBring your collectables\, antiques\, lawn & garden and household items (NO APPLIANCES!).\nConsignments taken morning of the auction from 7 A.M. – 9:30 A.M. (No items the night before.)\nManges Auction Service\n(507)256-4459\n23969 785th Ave.\nAlbert Lea\, MN 56007\nmangesauction@yahoo.com
URL:https://blacksmithlounge.com/event/consignment-auction-6/
LOCATION:Blacksmith Lounge & Broaster\, 17205 FOREST BLVD. N.\, HUGO\, MN\, 55038\, United States
CATEGORIES:Consignment Auctions
ATTACH;FMTTYPE=image/jpeg:https://blacksmithlounge.com/wp-content/uploads/2025/04/blacksmithlounge-and-broaster.jpg
ORGANIZER;CN="Manges Auction Service":MAILTO:mangesauction@yahoo.com
END:VEVENT
BEGIN:VEVENT
DTSTART;TZID=America/Chicago:20250629T100000
DTEND;TZID=America/Chicago:20250629T140000
DTSTAMP:20260424T120956
CREATED:20250418T214614Z
LAST-MODIFIED:20250418T225801Z
UID:1675-1751191200-1751205600@blacksmithlounge.com
SUMMARY:Consignment Auction
DESCRIPTION:Come have fun outdoors at the Blacksmith Lounge! Auction Time – 10 A.M.\nBring your collectables\, antiques\, lawn & garden and household items (NO APPLIANCES!).\nConsignments taken morning of the auction from 7 A.M. – 9:30 A.M. (No items the night before.)\nManges Auction Service\n(507)256-4459\n23969 785th Ave.\nAlbert Lea\, MN 56007\nmangesauction@yahoo.com
URL:https://blacksmithlounge.com/event/consignment-auction-5/
LOCATION:Blacksmith Lounge & Broaster\, 17205 FOREST BLVD. N.\, HUGO\, MN\, 55038\, United States
CATEGORIES:Consignment Auctions
ATTACH;FMTTYPE=image/jpeg:https://blacksmithlounge.com/wp-content/uploads/2025/04/blacksmithlounge-and-broaster.jpg
ORGANIZER;CN="Manges Auction Service":MAILTO:mangesauction@yahoo.com
END:VEVENT
BEGIN:VEVENT
DTSTART;TZID=America/Chicago:20240929T100000
DTEND;TZID=America/Chicago:20240929T140000
DTSTAMP:20260424T120956
CREATED:20250418T214609Z
LAST-MODIFIED:20250418T214609Z
UID:1674-1727604000-1727618400@blacksmithlounge.com
SUMMARY:Consignment Auction
DESCRIPTION:Come have fun outdoors at the Blacksmith Lounge! Auction Time – 10 A.M.\nBring your collectables\, antiques\, lawn & garden and household items (NO APPLIANCES!).\nConsignments taken morning of the auction from 7 A.M. – 9:30 A.M. (No items the night before.)\nManges Auction Service\n(507)256-4459\n23969 785th Ave.\nAlbert Lea\, MN 56007\nmangesauction@yahoo.com
URL:https://blacksmithlounge.com/event/consignment-auction-4/
LOCATION:MN
CATEGORIES:Consignment Auctions
END:VEVENT
BEGIN:VEVENT
DTSTART;TZID=America/Chicago:20240825T100000
DTEND;TZID=America/Chicago:20240825T140000
DTSTAMP:20260424T120956
CREATED:20250418T214609Z
LAST-MODIFIED:20250418T214609Z
UID:1673-1724580000-1724594400@blacksmithlounge.com
SUMMARY:Consignment Auction
DESCRIPTION:Come have fun outdoors at the Blacksmith Lounge! Auction Time – 10 A.M.\nBring your collectables\, antiques\, lawn & garden and household items (NO APPLIANCES!).\nConsignments taken morning of the auction from 7 A.M. – 9:30 A.M. (No items the night before.)\nManges Auction Service\n(507)256-4459\n23969 785th Ave.\nAlbert Lea\, MN 56007\nmangesauction@yahoo.com
URL:https://blacksmithlounge.com/event/consignment-auction-3/
LOCATION:MN
CATEGORIES:Consignment Auctions
END:VEVENT
BEGIN:VEVENT
DTSTART;TZID=America/Chicago:20240728T100000
DTEND;TZID=America/Chicago:20240728T140000
DTSTAMP:20260424T120956
CREATED:20250418T214609Z
LAST-MODIFIED:20250418T214609Z
UID:1672-1722160800-1722175200@blacksmithlounge.com
SUMMARY:Consignment Auction
DESCRIPTION:Come have fun outdoors at the Blacksmith Lounge! Auction Time – 10 A.M.\nBring your collectables\, antiques\, lawn & garden and household items (NO APPLIANCES!).\nConsignments taken morning of the auction from 7 A.M. – 9:30 A.M. (No items the night before.)\nManges Auction Service\n(507)256-4459\n23969 785th Ave.\nAlbert Lea\, MN 56007\nmangesauction@yahoo.com
URL:https://blacksmithlounge.com/event/consignment-auction-2/
LOCATION:MN
CATEGORIES:Consignment Auctions
END:VEVENT
BEGIN:VEVENT
DTSTART;TZID=America/Chicago:20240630T100000
DTEND;TZID=America/Chicago:20240630T140000
DTSTAMP:20260424T120956
CREATED:20250418T214609Z
LAST-MODIFIED:20250418T214609Z
UID:1671-1719741600-1719756000@blacksmithlounge.com
SUMMARY:Consignment Auction
DESCRIPTION:Come have fun outdoors at the Blacksmith Lounge! Auction Time – 10 A.M.\nBring your collectables\, antiques\, lawn & garden and household items (NO APPLIANCES!).\nConsignments taken morning of the auction from 7 A.M. – 9:30 A.M. (No items the night before.)\nManges Auction Service\n(507)256-4459\n23969 785th Ave.\nAlbert Lea\, MN 56007\nmangesauction@yahoo.com
URL:https://blacksmithlounge.com/event/consignment-auction/
LOCATION:MN
CATEGORIES:Consignment Auctions
END:VEVENT
END:VCALENDAR